BEGIN:VCALENDAR
VERSION:2.0
PRODID:-//CILCP - ECPv6.15.20//NONSGML v1.0//EN
CALSCALE:GREGORIAN
METHOD:PUBLISH
X-WR-CALNAME:CILCP
X-ORIGINAL-URL:https://cilcp.org
X-WR-CALDESC:Events for CILCP
REFRESH-INTERVAL;VALUE=DURATION:PT1H
X-Robots-Tag:noindex
X-PUBLISHED-TTL:PT1H
BEGIN:VTIMEZONE
TZID:America/New_York
BEGIN:DAYLIGHT
TZOFFSETFROM:-0500
TZOFFSETTO:-0400
TZNAME:EDT
DTSTART:20230312T070000
END:DAYLIGHT
BEGIN:STANDARD
TZOFFSETFROM:-0400
TZOFFSETTO:-0500
TZNAME:EST
DTSTART:20231105T060000
END:STANDARD
BEGIN:DAYLIGHT
TZOFFSETFROM:-0500
TZOFFSETTO:-0400
TZNAME:EDT
DTSTART:20240310T070000
END:DAYLIGHT
BEGIN:STANDARD
TZOFFSETFROM:-0400
TZOFFSETTO:-0500
TZNAME:EST
DTSTART:20241103T060000
END:STANDARD
BEGIN:DAYLIGHT
TZOFFSETFROM:-0500
TZOFFSETTO:-0400
TZNAME:EDT
DTSTART:20250309T070000
END:DAYLIGHT
BEGIN:STANDARD
TZOFFSETFROM:-0400
TZOFFSETTO:-0500
TZNAME:EST
DTSTART:20251102T060000
END:STANDARD
END:VTIMEZONE
BEGIN:VEVENT
DTSTART;TZID=America/New_York:20241012T080000
DTEND;TZID=America/New_York:20241013T140000
DTSTAMP:20260421T212207
CREATED:20240818T225233Z
LAST-MODIFIED:20240818T225233Z
UID:10003723-1728720000-1728828000@cilcp.org
SUMMARY:2024 Fall PA Lions Wheelchair Basketball Tournament
DESCRIPTION:Team Registration \n 
URL:https://cilcp.org/event/2024-fall-pa-lions-wheelchair-basketball-tournament/
LOCATION:Spooky Nook Sports Manheim\, 2913 Spooky Nook Rd\, Manheim\, PA\, 17545\, United States
CATEGORIES:CILCP Youth Wheelchair Basketball
ORGANIZER;CN="Center for Independent Living of Central PA":MAILTO:jgreen@cilcp.org
END:VEVENT
END:VCALENDAR