BEGIN:VCALENDAR
VERSION:2.0
PRODID:-//CILCP - ECPv6.15.20//NONSGML v1.0//EN
CALSCALE:GREGORIAN
METHOD:PUBLISH
X-WR-CALNAME:CILCP
X-ORIGINAL-URL:https://cilcp.org
X-WR-CALDESC:Events for CILCP
REFRESH-INTERVAL;VALUE=DURATION:PT1H
X-Robots-Tag:noindex
X-PUBLISHED-TTL:PT1H
BEGIN:VTIMEZONE
TZID:America/New_York
BEGIN:DAYLIGHT
TZOFFSETFROM:-0500
TZOFFSETTO:-0400
TZNAME:EDT
DTSTART:20230312T070000
END:DAYLIGHT
BEGIN:STANDARD
TZOFFSETFROM:-0400
TZOFFSETTO:-0500
TZNAME:EST
DTSTART:20231105T060000
END:STANDARD
BEGIN:DAYLIGHT
TZOFFSETFROM:-0500
TZOFFSETTO:-0400
TZNAME:EDT
DTSTART:20240310T070000
END:DAYLIGHT
BEGIN:STANDARD
TZOFFSETFROM:-0400
TZOFFSETTO:-0500
TZNAME:EST
DTSTART:20241103T060000
END:STANDARD
BEGIN:DAYLIGHT
TZOFFSETFROM:-0500
TZOFFSETTO:-0400
TZNAME:EDT
DTSTART:20250309T070000
END:DAYLIGHT
BEGIN:STANDARD
TZOFFSETFROM:-0400
TZOFFSETTO:-0500
TZNAME:EST
DTSTART:20251102T060000
END:STANDARD
END:VTIMEZONE
BEGIN:VEVENT
DTSTART;TZID=America/New_York:20241025T123000
DTEND;TZID=America/New_York:20241025T140000
DTSTAMP:20260421T212203
CREATED:20241015T182826Z
LAST-MODIFIED:20241015T182826Z
UID:10003740-1729859400-1729864800@cilcp.org
SUMMARY:Accessible Cooking Class
DESCRIPTION:🍴 Accessible Cooking Class🍴 Join us for a fun and informative cooking class on October 25th from 12:30 to 2 PM! Learn how to: – Embrace healthy eating and lifestyle habits: including physical activity and smart snacking. – Create delicious **burritos** with various options\, including vegetarian and different types of tortillas. 📍 Location: 3211 N. Front St.\, Harrisburg\, PA 17110
URL:https://cilcp.org/event/accessible-cooking-class/
LOCATION:PA
END:VEVENT
END:VCALENDAR